BEGIN:VCALENDAR
VERSION:2.0
PRODID:-//Let&#039;s Go Smart - ECPv6.15.20//NONSGML v1.0//EN
CALSCALE:GREGORIAN
METHOD:PUBLISH
X-ORIGINAL-URL:https://letsgosmart.org
X-WR-CALDESC:Events for Let&#039;s Go Smart
REFRESH-INTERVAL;VALUE=DURATION:PT1H
X-Robots-Tag:noindex
X-PUBLISHED-TTL:PT1H
BEGIN:VTIMEZONE
TZID:UTC
BEGIN:STANDARD
TZOFFSETFROM:+0000
TZOFFSETTO:+0000
TZNAME:UTC
DTSTART:20160101T000000
END:STANDARD
END:VTIMEZONE
BEGIN:VEVENT
DTSTART;TZID=UTC:20170917T080000
DTEND;TZID=UTC:20170917T140000
DTSTAMP:20260423T211848
CREATED:20170829T022630Z
LAST-MODIFIED:20170829T022630Z
UID:414-1505635200-1505656800@letsgosmart.org
SUMMARY:Omba Caramba! Mountain Bike Race
DESCRIPTION:Race day registration opens at 8:00 and ends 20 minutes before your start time.  Racers meeting will be held 5 minutes before category start time.  If you do not pre-register you must fill out entry form and waiver before start of the race. \nAwards are three (3) deep per age bracket. \nCat 1/2 and Marathon – 1/3 of the field gets 70% payout! (Must have 9 riders to pay 3 deep.)\n\nUFD WEST POINTS SERIES INFORMATION: \nAll Cat 1/2\, Cat 2\, Cat 3\, Marathon\, and Juniors Racers will be eligible for points. \nCat 2 Racers racing in the Cat1/2 Category will be awarded Cat 1 points. \nParticipants racing the Single Speed Category will not be eligible for points. \nLicenses \nThere will be a $10 one day license fee for all unlicensed riders.\n\n\nRace Overview:\nKids Course < 1 mile \nNote:  Lap distance is approximate.  Overall distance is the most accurate. \n4-5 Mile Fast Course:\n14 and Under Juniors                                        5 Miles\n15-18 Juniors                                                    9 Miles\nCat 2                                                                 18 Miles\nCat 3                                                                 14 Miles \n8 Mile Technical Course:\nCat 1/2                                                                 24 Miles\nSingle Speed                                                       16 Miles\nMarathon                                                             3 Hours \nStart Times:\nRegistration                          8:00 AM\nKids                                    10:00 AM\nMarathon/SS                      10:30 AM\nJuniors                                10:30 AM\nAll Cat 3                             11:30 AM\nAll Cat 2                             11:30 AM\nAll Cat 1/2                          12:30 PM \nExpect 2 minute release intervals for women’s and age bracket categories. \nPrices:\nKids:   Free\nJuniors   $20\nCat 2\,3\, and SS $30\nMarathon     $40\nCat 1/2              $40 \nCategories Male:\nCat 1/2:  19-29\, 30-39\, 40-49\, 50+  Top 1/3 payout 70% minimum 9 riders to pay 3 deep\nCat 2:     19-29\, 30-39\, 40-49\, 50+\nCat 3:     19-29\, 30-39\, 40-49\, 50+\nJuniors 14 and under\nJuniors 15-18\nMarathon\nSingle Speed\nCategories Female:\nCat 1/2:  All ages Top 1/3 Payout 70% minimum 9 Riders to pay 3 deep\nCat 2:     All ages\nCat 3:     All ages\nJuniors:  14 and Under\nJuniors:  15-18\nMarathon\nSingle Speed
URL:https://letsgosmart.org/event/omba-caramba-mountain-bike-race/
LOCATION:Sac River Trails\, Springfield\, MO\, 65803
END:VEVENT
BEGIN:VEVENT
DTSTART;TZID=UTC:20170901T150000
DTEND;TZID=UTC:20170903T160000
DTSTAMP:20260423T211848
CREATED:20170829T024032Z
LAST-MODIFIED:20170829T024032Z
UID:421-1504278000-1504454400@letsgosmart.org
SUMMARY:SingleTrack Mind Festival
DESCRIPTION:WE HAVE A SINGLETRACK MIND.\nOne of the best ways to donate to Midwest trails is to have a non-stop good time riding\, running and jamming to great local music. We know\, convenient right? With bike races\, trail runs\, demos\, discovery rides\, skills clinics\, yoga\, music and more\, the Singletrack Mind Festival hosts an impressive line up that will speak to the trail fanatic in all of us. \nJoin us at Two Rivers Bike Park in Springfield\, Missouri for this epic three day event and immerse yourself in the vibrant\, engaging culture of natural surface trails.
URL:https://letsgosmart.org/event/singletrack-mind-festival/
LOCATION:Two Rivers Bike Park\, 5055 2 Rivers Rd\, Highlandville\, MO\, 65669
END:VEVENT
BEGIN:VEVENT
DTSTART;TZID=UTC:20170726T100000
DTEND;TZID=UTC:20170726T113000
DTSTAMP:20260423T211848
CREATED:20170629T200952Z
LAST-MODIFIED:20170629T201128Z
UID:364-1501063200-1501068600@letsgosmart.org
SUMMARY:OTO Bicycle Pedestrian Advisory Committee Meeting
DESCRIPTION:Rescheduled to July 26\, 2017\, BPAC will meet with Alta to discuss the ongoing progress of the Trail Investment Study.
URL:https://letsgosmart.org/event/oto-bicycle-pedestrian-advisory-committee-meeting/
LOCATION:OTO\, 2208 W. Chesterfield Boulevard\, Suite 101\, Springfield\, MO\, 65809\, United States
ORGANIZER;CN="Ozarks Transportation Organization":MAILTO:nlongpine@ozarkstransportation.org
END:VEVENT
BEGIN:VEVENT
DTSTART;TZID=UTC:20170708T070000
DTEND;TZID=UTC:20170708T120000
DTSTAMP:20260423T211848
CREATED:20170602T085459Z
LAST-MODIFIED:20170627T022203Z
UID:212-1499497200-1499515200@letsgosmart.org
SUMMARY:Ride to Remember
DESCRIPTION:SAVE THE DATE! We are holding our second annual cycling event to benefit the Alzheimer’s Association Greater Missouri Chapter. \nWe will start/end the ride at the Drunken Monkey Bar & Grill. 1816 W Division St\, Springfield\, MO 65802. \nThe two routes are 29 and 49 miles. The 49 is only 1342′ of climb with a max grade of 3.2% (super easy in the Ozarks) The 29 has only 822′ of climb. \n49 mile ride starts at 7:30am\n29 mile ride starts at 9am. \nHere’s the link to register: http://www.active.com/springfield-mo/cycling/races/ride-to-remember-springfield-2017 \nNon-riders can join us for food\, a beverage & entertainment for only $10 (paid at the ride). \nWe do need volunteers\, sponsors\, etc. also. Please let us know if you can help. THANKS! \nKeep checking back for updates!
URL:https://letsgosmart.org/event/lorem-ipsum-event/
LOCATION:Drunken Monkey Bar & Grill\, 1816 W. Division St.\, Springfield\, MO\, 65802\, United States
ATTACH;FMTTYPE=image/png:https://letsgosmart.org/wp-content/uploads/2017/06/14470529_10154395513706413_5635597249313915848_n.png
END:VEVENT
BEGIN:VEVENT
DTSTART;TZID=UTC:20170609T073000
DTEND;TZID=UTC:20170609T163000
DTSTAMP:20260423T211848
CREATED:20170602T070253Z
LAST-MODIFIED:20170629T201201Z
UID:207-1496993400-1497025800@letsgosmart.org
SUMMARY:Queen City Century
DESCRIPTION:
URL:https://letsgosmart.org/event/testing-event-title/
LOCATION:Springfield Brewing Company\, 305 S. Market Ave\, Springfield\, MO\, 65806\, United States
ATTACH;FMTTYPE=image/png:https://letsgosmart.org/wp-content/uploads/2017/06/revised_2016_qcc_logo-280x258.png
END:VEVENT
END:VCALENDAR