BEGIN:VCALENDAR
VERSION:2.0
PRODID:-//Let&#039;s Go Smart - ECPv6.15.20//NONSGML v1.0//EN
CALSCALE:GREGORIAN
METHOD:PUBLISH
X-WR-CALNAME:Let&#039;s Go Smart
X-ORIGINAL-URL:https://letsgosmart.org
X-WR-CALDESC:Events for Let&#039;s Go Smart
REFRESH-INTERVAL;VALUE=DURATION:PT1H
X-Robots-Tag:noindex
X-PUBLISHED-TTL:PT1H
BEGIN:VTIMEZONE
TZID:America/Chicago
BEGIN:DAYLIGHT
TZOFFSETFROM:-0600
TZOFFSETTO:-0500
TZNAME:CDT
DTSTART:20230312T080000
END:DAYLIGHT
BEGIN:STANDARD
TZOFFSETFROM:-0500
TZOFFSETTO:-0600
TZNAME:CST
DTSTART:20231105T070000
END:STANDARD
BEGIN:DAYLIGHT
TZOFFSETFROM:-0600
TZOFFSETTO:-0500
TZNAME:CDT
DTSTART:20240310T080000
END:DAYLIGHT
BEGIN:STANDARD
TZOFFSETFROM:-0500
TZOFFSETTO:-0600
TZNAME:CST
DTSTART:20241103T070000
END:STANDARD
BEGIN:DAYLIGHT
TZOFFSETFROM:-0600
TZOFFSETTO:-0500
TZNAME:CDT
DTSTART:20250309T080000
END:DAYLIGHT
BEGIN:STANDARD
TZOFFSETFROM:-0500
TZOFFSETTO:-0600
TZNAME:CST
DTSTART:20251102T070000
END:STANDARD
BEGIN:DAYLIGHT
TZOFFSETFROM:-0600
TZOFFSETTO:-0500
TZNAME:CDT
DTSTART:20260308T080000
END:DAYLIGHT
BEGIN:STANDARD
TZOFFSETFROM:-0500
TZOFFSETTO:-0600
TZNAME:CST
DTSTART:20261101T070000
END:STANDARD
END:VTIMEZONE
BEGIN:VEVENT
DTSTART;TZID=America/Chicago:20250220T163000
DTEND;TZID=America/Chicago:20250220T180000
DTSTAMP:20260423T194619
CREATED:20250206T165242Z
LAST-MODIFIED:20250219T205138Z
UID:825-1740069000-1740074400@letsgosmart.org
SUMMARY:Public Meeting - Sunshine Street (Missouri Route 413) Bridge Replacement Project
DESCRIPTION:The public meeting to discuss the Sunshine Street (Missouri Route 413) Bridge Replacement Project over MNA Railroad in Springfield\, originally scheduled for Thursday\, February 20\, has been postponed due to this week’s winter weather. The meeting will be rescheduled. When details are determined\, a news release and message boards will advertise the new public meeting date and time. \n  \nThe Sunshine Street (Missouri Route 413) Bridge Replacement Project over MNA Railroad public meeting will discuss the traffic impacts during construction and project information. \nProject highlights: \n\nReplace Missouri Route 413 (Sunshine Street) bridge over MNA Railroad in Springfield\nAdd/improve pedestrian facilities on both sides of the roadway from Scenic Avenue to Marion Avenue\n\nTraffic impacts during construction: \n\nRoute 413 (Sunshine Street) CLOSED from east of Scenic Avenue to west of Marion Avenue for up to 4 months during construction\nDetour: James River Freeway\, Kansas Expressway\, Chestnut Expressway\, and U.S. Route 160\nDrivers are urged to use alternate routes during construction to avoid the work zone\nElectronic message boards and news releases will notify the public of traffic impacts\n\n  \nConstruction is scheduled to begin in March 2025. \nThe estimated project cost is $5.9 million. \n  \nView exhibits and get project information by visiting www.modot.org/southwest. \n 
URL:https://letsgosmart.org/event/public-meeting-sunshine-street-missouri-route-413-bridge-replacement-project/
LOCATION:Springfield-Greene County Botanical Center\, 2400 S Scenic Avenue\, Springfield\, MO\, 65807\, United States
CATEGORIES:Event Category
ATTACH;FMTTYPE=image/jpeg:https://letsgosmart.org/wp-content/uploads/2025/02/MO-413-over-RR-tracks.JPG.jpg
END:VEVENT
BEGIN:VEVENT
DTSTART;TZID=America/Chicago:20241007T130000
DTEND;TZID=America/Chicago:20241007T160000
DTSTAMP:20260423T194619
CREATED:20240930T162144Z
LAST-MODIFIED:20240930T162144Z
UID:820-1728306000-1728316800@letsgosmart.org
SUMMARY:Safe Streets Pop-Up Event
DESCRIPTION:The Ozarks Transportation Organization (OTO) invites the community to join a pop-up event on Monday\, October 7th\, from 1 PM to 4 PM\, as part of its Safe Streets for All initiative\, Destination Safe Streets. The event will take place on W Dale St between N Campbell Ave and N Boonville Ave in the Woodland Heights Neighborhood\, near 2100 N Boonville Ave\, Springfield\, MO 65803. \nThe event will temporarily transform a section of the roadway to demonstrate how simple\, low-cost changes can improve safety and accessibility for all users—pedestrians\, cyclists\, and drivers. Community members will have the chance to walk through the demonstration area\, see these changes in action\, and provide feedback on future street safety improvements. \nIn addition to interactive demonstrations\, the popular food truck “I Love Tacos” will be on-site\, offering delicious food throughout the event. OTO encourages residents to come out\, engage with the Safe Streets for All project team\, and enjoy the food and activities. \nThis event is part of the larger Safe Streets for All plan\, Destination Safe Streets\, which is focused on improving traffic safety and accessibility through thoughtful design and community participation. The Ozarks Transportation Organization remains dedicated to engaging with residents to shape safer streets for everyone.
URL:https://letsgosmart.org/event/safe-streets-pop-up-event/
LOCATION:OTO Pop-Up Event\, W Dale St\, Springfield\, MO\, 65803\, United States
CATEGORIES:Event Category
ATTACH;FMTTYPE=image/jpeg:https://letsgosmart.org/wp-content/uploads/2024/09/SS4A-Pop-Up-Event-Flyer-scaled.jpg
ORGANIZER;CN="Ozarks Transportation Organization":MAILTO:nlongpine@ozarkstransportation.org
END:VEVENT
END:VCALENDAR